BEGIN:VCALENDAR
VERSION:2.0
PRODID:icalendar-ruby
CALSCALE:GREGORIAN
BEGIN:VEVENT
DTSTAMP:20260424T102908Z
UID:b98e5626-4d89-4719-a8ac-8a666f8e6053
DTSTART;TZID=Pacific/Auckland:20260426T130000
DTEND;TZID=Pacific/Auckland:20260426T133000
DESCRIPTION:Property ID# 605143
SUMMARY:Openhome for 79 Ludlam Street
END:VEVENT
END:VCALENDAR
