BEGIN:VCALENDAR
VERSION:2.0
PRODID:icalendar-ruby
CALSCALE:GREGORIAN
BEGIN:VEVENT
DTSTAMP:20260424T085406Z
UID:a40fd60a-93a4-4bf7-b585-b5ce3e9ad87a
DTSTART;VALUE=DATE:20260430
DESCRIPTION:Property ID# 606065\, Locatoin: 8 Kent Terrace\, Wellington\, T
 ime: 12:00PM
SUMMARY:Auction for 68 Totara Road
END:VEVENT
END:VCALENDAR
