BEGIN:VCALENDAR
VERSION:2.0
PRODID:icalendar-ruby
CALSCALE:GREGORIAN
BEGIN:VEVENT
DTSTAMP:20260424T085305Z
UID:3a6ad3a1-46d5-4b3e-9bf3-7e3eeaf668b3
DTSTART;VALUE=DATE:20251105
DESCRIPTION:Property ID# 598596\, Locatoin: 8 Kent Terrace\, Wellington \, 
 Time: 1:00PM
SUMMARY:Auction for 
END:VEVENT
END:VCALENDAR
